BEGIN:VCALENDAR
VERSION:2.0
PRODID:icalendar-ruby
CALSCALE:GREGORIAN
METHOD:PUBLISH
BEGIN:VEVENT
DTSTAMP:20260421T100259Z
UID:10-1070894@hcfeastside.org
DTSTART:20260417T220000Z
DTEND:20260417T230000Z
CLASS:PUBLIC
CREATED:20260414T223144
DESCRIPTION:
LAST-MODIFIED:20260414T223144
LOCATION:
SUMMARY:Women's Ministry
URL;VALUE=URI:https://hcfeastside.org/events/womens-ministry/2026-04-17
ATTACH;FILENAME=HCF-Eastside-Womens-Ministry.png;FMTTYPE=image/png:https://
 dq5pwpg1q8ru0.cloudfront.net/2026/04/15/02/31/16/0c08dfc9-ae0a-43a7-86ee-6
 878e302d70e/HCF-Eastside-Womens-Ministry.png
ATTACH;FILENAME=digital-art-8m-women-strike-movement.jpg;FMTTYPE=image/jpeg
 :https://dq5pwpg1q8ru0.cloudfront.net/2025/10/14/20/24/12/4521eca4-1a51-43
 42-8436-5b24aec372e2/digital-art-8m-women-strike-movement.jpg
END:VEVENT
END:VCALENDAR
