BEGIN:VCALENDAR
VERSION:2.0
PRODID:icalendar-ruby
CALSCALE:GREGORIAN
METHOD:PUBLISH
BEGIN:VEVENT
DTSTAMP:20260420T155330Z
UID:26-1002589@hcfeastside.org
DTSTART:20260627T140000Z
DTEND:20260627T150000Z
CLASS:PUBLIC
CREATED:20260313T014924
DESCRIPTION:
LAST-MODIFIED:20260313T014924
LOCATION:
SUMMARY:Reach The Beach Meeting 2
URL;VALUE=URI:https://hcfeastside.org/events/reach-the-beach-meeting-2/2026
 -06-27
ATTACH;FILENAME=Reach-The-Beach-2.png;FMTTYPE=image/png:https://dq5pwpg1q8r
 u0.cloudfront.net/2026/03/13/05/49/24/88ab59f2-ad08-48cd-a897-dbca32c71d23
 /Reach-The-Beach-2.png
END:VEVENT
END:VCALENDAR
