BEGIN:VCALENDAR
VERSION:2.0
PRODID:icalendar-ruby
CALSCALE:GREGORIAN
METHOD:PUBLISH
BEGIN:VEVENT
DTSTAMP:20260421T123023Z
UID:17-1085122@hcfeastside.org
DTSTART:20260723T230000Z
DTEND:20260724T000000Z
CLASS:PUBLIC
CREATED:20260421T075606
DESCRIPTION:https://www.facebook.com/share/g/17ckTKpfv5/\n 
LAST-MODIFIED:20260421T075606
LOCATION:Join Us on FaceBook
SUMMARY:Bible Talk
URL;VALUE=URI:https://hcfeastside.org/events/bible-talk/2026-07-23
ATTACH;FILENAME=Bible-Talk-Logo.png;FMTTYPE=image/png:https://dq5pwpg1q8ru0
 .cloudfront.net/2026/03/23/00/31/42/da4c84d1-1a4a-4319-92cf-30892df317ed/B
 ible-Talk-Logo.png
END:VEVENT
END:VCALENDAR
